Package: REMP Version: 1.28.0 Command: F:\biocbuild\bbs-3.19-bioc\R\bin\R.exe CMD INSTALL REMP StartedAt: 2024-06-26 16:48:31 -0400 (Wed, 26 Jun 2024) EndedAt: 2024-06-26 16:49:51 -0400 (Wed, 26 Jun 2024) EllapsedTime: 80.4 seconds RetCode: 0 Status: OK