Package: REMP Version: 1.28.0 Command: rm -rf REMP.buildbin-libdir && mkdir REMP.buildbin-libdir && /Users/biocbuild/BBS/utils/build-universal.sh REMP_1.28.0.tar.gz /Library/Frameworks/R.framework/Resources/bin/R REMP.buildbin-libdir StartedAt: 2024-06-10 00:34:52 -0400 (Mon, 10 Jun 2024) EndedAt: 2024-06-10 00:36:11 -0400 (Mon, 10 Jun 2024) EllapsedTime: 78.6 seconds RetCode: 0 Status: OK PackageFile: REMP_1.28.0.tgz PackageFileSize: 690 KiB