Package: REMP Version: 1.28.0 Command: /home/biocbuild/R/R-beta-2024-04-15_r86425/bin/R CMD INSTALL REMP StartedAt: 2024-05-08 21:03:27 -0000 (Wed, 08 May 2024) EndedAt: 2024-05-08 21:04:46 -0000 (Wed, 08 May 2024) EllapsedTime: 78.9 seconds RetCode: 0 Status: OK