Package: REMP Version: 1.28.0 Command: /home/biocbuild/R/R-beta-2024-04-15_r86425/bin/R CMD build --keep-empty-dirs --no-resave-data REMP StartedAt: 2024-05-09 02:55:49 -0000 (Thu, 09 May 2024) EndedAt: 2024-05-09 02:58:21 -0000 (Thu, 09 May 2024) EllapsedTime: 152.2 seconds RetCode: 1 Status: ERROR PackageFile: None PackageFileSize: NA