Package: REMP Version: 1.28.0 Command: rm -rf REMP.buildbin-libdir && mkdir REMP.buildbin-libdir && /Users/biocbuild/BBS/utils/build-universal.sh REMP_1.28.0.tar.gz /Library/Frameworks/R.framework/Resources/bin/R REMP.buildbin-libdir StartedAt: 2024-10-18 20:13:35 -0400 (Fri, 18 Oct 2024) EndedAt: 2024-10-18 20:14:58 -0400 (Fri, 18 Oct 2024) EllapsedTime: 82.9 seconds RetCode: 0 Status: OK PackageFile: REMP_1.28.0.tgz PackageFileSize: 690.5 KiB