Package: REDseq Version: 1.50.0 Command: rm -rf REDseq.buildbin-libdir && mkdir REDseq.buildbin-libdir && E:\biocbuild\bbs-3.19-bioc\R\bin\R.exe CMD INSTALL --build --library=REDseq.buildbin-libdir REDseq_1.50.0.tar.gz StartedAt: 2024-10-17 08:27:42 -0400 (Thu, 17 Oct 2024) EndedAt: 2024-10-17 08:28:35 -0400 (Thu, 17 Oct 2024) EllapsedTime: 53.0 seconds RetCode: 0 Status: OK PackageFile: REDseq_1.50.0.zip PackageFileSize: 217.6 KiB