Package: REDseq Version: 1.50.0 Command: /Library/Frameworks/R.framework/Resources/bin/R CMD build --keep-empty-dirs --no-resave-data REDseq StartedAt: 2024-10-16 22:29:14 -0400 (Wed, 16 Oct 2024) EndedAt: 2024-10-16 22:31:57 -0400 (Wed, 16 Oct 2024) EllapsedTime: 163.2 seconds RetCode: 0 Status: OK PackageFile: REDseq_1.50.0.tar.gz PackageFileSize: 361.2 KiB