Package: REDseq Version: 1.50.0 Command: /home/biocbuild/R/R-beta-2024-04-15_r86425/bin/R CMD build --keep-empty-dirs --no-resave-data REDseq StartedAt: 2024-05-09 02:54:15 -0000 (Thu, 09 May 2024) EndedAt: 2024-05-09 02:55:45 -0000 (Thu, 09 May 2024) EllapsedTime: 89.1 seconds RetCode: 0 Status: OK PackageFile: REDseq_1.50.0.tar.gz PackageFileSize: 350.6 KiB