Package: REDseq Version: 1.50.0 Command: rm -rf REDseq.buildbin-libdir && mkdir REDseq.buildbin-libdir && /Users/biocbuild/BBS/utils/build-universal.sh REDseq_1.50.0.tar.gz /Library/Frameworks/R.framework/Resources/bin/R REDseq.buildbin-libdir StartedAt: 2024-06-11 12:45:11 -0400 (Tue, 11 Jun 2024) EndedAt: 2024-06-11 12:46:57 -0400 (Tue, 11 Jun 2024) EllapsedTime: 105.8 seconds RetCode: 0 Status: OK PackageFile: REDseq_1.50.0.tgz PackageFileSize: 416.3 KiB