Package: REDseq Version: 1.50.0 Command: /Library/Frameworks/R.framework/Resources/bin/R CMD INSTALL REDseq StartedAt: 2024-10-16 18:09:12 -0400 (Wed, 16 Oct 2024) EndedAt: 2024-10-16 18:10:08 -0400 (Wed, 16 Oct 2024) EllapsedTime: 56.4 seconds RetCode: 0 Status: OK