Package: RDRToolbox Version: 1.54.0 Command: rm -rf RDRToolbox.buildbin-libdir && mkdir RDRToolbox.buildbin-libdir && E:\biocbuild\bbs-3.19-bioc\R\bin\R.exe CMD INSTALL --build --library=RDRToolbox.buildbin-libdir RDRToolbox_1.54.0.tar.gz StartedAt: 2024-10-17 08:26:49 -0400 (Thu, 17 Oct 2024) EndedAt: 2024-10-17 08:27:04 -0400 (Thu, 17 Oct 2024) EllapsedTime: 14.9 seconds RetCode: 0 Status: OK PackageFile: RDRToolbox_1.54.0.zip PackageFileSize: 191.5 KiB