Package: RDRToolbox Version: 1.54.0 Command: /home/biocbuild/bbs-3.19-bioc/R/bin/R CMD INSTALL RDRToolbox StartedAt: 2024-10-16 16:17:44 -0400 (Wed, 16 Oct 2024) EndedAt: 2024-10-16 16:17:47 -0400 (Wed, 16 Oct 2024) EllapsedTime: 2.8 seconds RetCode: 0 Status: OK