Package: RDRToolbox Version: 1.54.0 Command: /Library/Frameworks/R.framework/Resources/bin/R CMD build --keep-empty-dirs --no-resave-data RDRToolbox StartedAt: 2024-10-17 07:18:48 -0400 (Thu, 17 Oct 2024) EndedAt: 2024-10-17 07:19:10 -0400 (Thu, 17 Oct 2024) EllapsedTime: 22.5 seconds RetCode: 0 Status: OK PackageFile: RDRToolbox_1.54.0.tar.gz PackageFileSize: 190.4 KiB