Package: RCyjs Version: 2.26.1 Command: /Library/Frameworks/R.framework/Resources/bin/R CMD INSTALL RCyjs StartedAt: 2024-10-16 15:12:56 -0400 (Wed, 16 Oct 2024) EndedAt: 2024-10-16 15:13:18 -0400 (Wed, 16 Oct 2024) EllapsedTime: 21.6 seconds RetCode: 0 Status: OK