Package: RCyjs Version: 2.26.1 Command: /Library/Frameworks/R.framework/Resources/bin/R CMD check --install=check:RCyjs.install-out.txt --library=/Library/Frameworks/R.framework/Resources/library --no-vignettes --timings RCyjs_2.26.1.tar.gz StartedAt: 2024-10-17 11:34:39 -0400 (Thu, 17 Oct 2024) EndedAt: 2024-10-17 11:36:17 -0400 (Thu, 17 Oct 2024) EllapsedTime: 98.2 seconds RetCode: 0 Status: WARNINGS CheckDir: RCyjs.Rcheck Warnings: 1