Package: RCyjs Version: 2.26.1 Command: /Library/Frameworks/R.framework/Resources/bin/R CMD build --keep-empty-dirs --no-resave-data RCyjs StartedAt: 2024-10-16 22:26:56 -0400 (Wed, 16 Oct 2024) EndedAt: 2024-10-16 22:27:22 -0400 (Wed, 16 Oct 2024) EllapsedTime: 26.4 seconds RetCode: 0 Status: OK PackageFile: RCyjs_2.26.1.tar.gz PackageFileSize: 1.084 MiB