Package: RCyjs Version: 2.26.1 Command: rm -rf RCyjs.buildbin-libdir && mkdir RCyjs.buildbin-libdir && /Users/biocbuild/BBS/utils/build-universal.sh RCyjs_2.26.1.tar.gz /Library/Frameworks/R.framework/Resources/bin/R RCyjs.buildbin-libdir StartedAt: 2024-06-11 12:44:06 -0400 (Tue, 11 Jun 2024) EndedAt: 2024-06-11 12:44:22 -0400 (Tue, 11 Jun 2024) EllapsedTime: 16.3 seconds RetCode: 0 Status: OK PackageFile: RCyjs_2.26.1.tgz PackageFileSize: 1.009 MiB