Package: RCyjs Version: 2.26.1 Command: /Library/Frameworks/R.framework/Resources/bin/R CMD check --install=check:RCyjs.install-out.txt --library=/Library/Frameworks/R.framework/Resources/library --no-vignettes --timings RCyjs_2.26.1.tar.gz StartedAt: 2024-10-18 08:56:37 -0400 (Fri, 18 Oct 2024) EndedAt: 2024-10-18 08:57:36 -0400 (Fri, 18 Oct 2024) EllapsedTime: 59.0 seconds RetCode: 0 Status: WARNINGS CheckDir: RCyjs.Rcheck Warnings: 1