Package: RCyjs Version: 2.26.1 Command: rm -rf RCyjs.buildbin-libdir && mkdir RCyjs.buildbin-libdir && /Users/biocbuild/BBS/utils/build-universal.sh RCyjs_2.26.1.tar.gz /Library/Frameworks/R.framework/Resources/bin/R RCyjs.buildbin-libdir StartedAt: 2024-10-18 20:11:13 -0400 (Fri, 18 Oct 2024) EndedAt: 2024-10-18 20:11:25 -0400 (Fri, 18 Oct 2024) EllapsedTime: 11.4 seconds RetCode: 0 Status: OK PackageFile: RCyjs_2.26.1.tgz PackageFileSize: 1.004 MiB