Package: RCy3 Version: 2.24.0 Command: F:\biocbuild\bbs-3.19-bioc\R\bin\R.exe CMD INSTALL RCy3 StartedAt: 2024-06-26 16:27:22 -0400 (Wed, 26 Jun 2024) EndedAt: 2024-06-26 16:28:11 -0400 (Wed, 26 Jun 2024) EllapsedTime: 48.8 seconds RetCode: 0 Status: OK