Package: RCy3 Version: 2.24.0 Command: chmod a+r RCy3 -R && F:\biocbuild\bbs-3.19-bioc\R\bin\R.exe CMD build --keep-empty-dirs --no-resave-data RCy3 StartedAt: 2024-06-26 21:18:06 -0400 (Wed, 26 Jun 2024) EndedAt: 2024-06-26 21:19:53 -0400 (Wed, 26 Jun 2024) EllapsedTime: 107.6 seconds RetCode: 0 Status: OK PackageFile: RCy3_2.24.0.tar.gz PackageFileSize: 6.458 MiB