Package: RCy3 Version: 2.24.0 Command: rm -rf RCy3.buildbin-libdir && mkdir RCy3.buildbin-libdir && F:\biocbuild\bbs-3.19-bioc\R\bin\R.exe CMD INSTALL --build --library=RCy3.buildbin-libdir RCy3_2.24.0.tar.gz StartedAt: 2024-06-27 08:45:15 -0400 (Thu, 27 Jun 2024) EndedAt: 2024-06-27 08:46:07 -0400 (Thu, 27 Jun 2024) EllapsedTime: 51.1 seconds RetCode: 0 Status: OK PackageFile: RCy3_2.24.0.zip PackageFileSize: 7.343 MiB