Package: RCy3 Version: 2.24.0 Command: /Library/Frameworks/R.framework/Resources/bin/R CMD INSTALL RCy3 StartedAt: 2024-10-16 16:12:35 -0400 (Wed, 16 Oct 2024) EndedAt: 2024-10-16 16:13:08 -0400 (Wed, 16 Oct 2024) EllapsedTime: 33.2 seconds RetCode: 0 Status: OK