Package: RCy3 Version: 2.24.0 Command: rm -rf RCy3.buildbin-libdir && mkdir RCy3.buildbin-libdir && /Users/biocbuild/BBS/utils/build-universal.sh RCy3_2.24.0.tar.gz /Library/Frameworks/R.framework/Resources/bin/R RCy3.buildbin-libdir StartedAt: 2024-06-10 00:34:26 -0400 (Mon, 10 Jun 2024) EndedAt: 2024-06-10 00:34:50 -0400 (Mon, 10 Jun 2024) EllapsedTime: 24.5 seconds RetCode: 0 Status: OK PackageFile: RCy3_2.24.0.tgz PackageFileSize: 7.302 MiB