Package: RCy3 Version: 2.24.0 Command: /home/biocbuild/R/R-beta-2024-04-15_r86425/bin/R CMD INSTALL RCy3 StartedAt: 2024-05-08 20:45:27 -0000 (Wed, 08 May 2024) EndedAt: 2024-05-08 20:45:44 -0000 (Wed, 08 May 2024) EllapsedTime: 16.7 seconds RetCode: 0 Status: OK