Package: RCy3 Version: 2.24.0 Command: /home/biocbuild/R/R-beta-2024-04-15_r86425/bin/R CMD build --keep-empty-dirs --no-resave-data RCy3 StartedAt: 2024-05-09 02:52:37 -0000 (Thu, 09 May 2024) EndedAt: 2024-05-09 02:53:30 -0000 (Thu, 09 May 2024) EllapsedTime: 53.1 seconds RetCode: 0 Status: OK PackageFile: RCy3_2.24.0.tar.gz PackageFileSize: 7.35 MiB