Package: RCy3 Version: 2.24.0 Command: /Library/Frameworks/R.framework/Resources/bin/R CMD INSTALL RCy3 StartedAt: 2024-06-09 16:44:58 -0400 (Sun, 09 Jun 2024) EndedAt: 2024-06-09 16:45:20 -0400 (Sun, 09 Jun 2024) EllapsedTime: 21.2 seconds RetCode: 0 Status: OK