Package: RCy3 Version: 2.24.0 Command: /Library/Frameworks/R.framework/Resources/bin/R CMD check --install=check:RCy3.install-out.txt --library=/Library/Frameworks/R.framework/Resources/library --no-vignettes --timings RCy3_2.24.0.tar.gz StartedAt: 2024-10-18 08:56:25 -0400 (Fri, 18 Oct 2024) EndedAt: 2024-10-18 08:58:08 -0400 (Fri, 18 Oct 2024) EllapsedTime: 102.6 seconds RetCode: 0 Status: OK CheckDir: RCy3.Rcheck Warnings: 0