Package: RCX Version: 1.8.0 Command: E:\biocbuild\bbs-3.19-bioc\R\bin\R.exe CMD INSTALL RCX StartedAt: 2024-10-16 16:06:26 -0400 (Wed, 16 Oct 2024) EndedAt: 2024-10-16 16:06:59 -0400 (Wed, 16 Oct 2024) EllapsedTime: 33.5 seconds RetCode: 0 Status: OK