Package: RCX Version: 1.8.0 Command: rm -rf RCX.buildbin-libdir && mkdir RCX.buildbin-libdir && /Users/biocbuild/BBS/utils/build-universal.sh RCX_1.8.0.tar.gz /Library/Frameworks/R.framework/Resources/bin/R RCX.buildbin-libdir StartedAt: 2024-10-17 16:56:50 -0400 (Thu, 17 Oct 2024) EndedAt: 2024-10-17 16:57:10 -0400 (Thu, 17 Oct 2024) EllapsedTime: 20.0 seconds RetCode: 0 Status: OK PackageFile: RCX_1.8.0.tgz PackageFileSize: 3.597 MiB