Package: RCX Version: 1.8.0 Command: /home/biocbuild/R/R-beta-2024-04-15_r86425/bin/R CMD check --install=check:RCX.install-out.txt --library=/home/biocbuild/R/R-beta-2024-04-15_r86425/site-library --no-vignettes --timings RCX_1.8.0.tar.gz StartedAt: 2024-05-09 11:01:08 -0000 (Thu, 09 May 2024) EndedAt: 2024-05-09 11:02:04 -0000 (Thu, 09 May 2024) EllapsedTime: 56.1 seconds RetCode: 0 Status: OK CheckDir: RCX.Rcheck Warnings: 0