Package: RCX Version: 1.8.0 Command: /Library/Frameworks/R.framework/Resources/bin/R CMD build --keep-empty-dirs --no-resave-data RCX StartedAt: 2024-10-17 07:17:59 -0400 (Thu, 17 Oct 2024) EndedAt: 2024-10-17 07:18:35 -0400 (Thu, 17 Oct 2024) EllapsedTime: 36.6 seconds RetCode: 0 Status: OK PackageFile: RCX_1.8.0.tar.gz PackageFileSize: 4.574 MiB