Package: RCX Version: 1.8.0 Command: rm -rf RCX.buildbin-libdir && mkdir RCX.buildbin-libdir && /Users/biocbuild/BBS/utils/build-universal.sh RCX_1.8.0.tar.gz /Library/Frameworks/R.framework/Resources/bin/R RCX.buildbin-libdir StartedAt: 2024-10-18 20:11:02 -0400 (Fri, 18 Oct 2024) EndedAt: 2024-10-18 20:11:13 -0400 (Fri, 18 Oct 2024) EllapsedTime: 11.5 seconds RetCode: 0 Status: OK PackageFile: RCX_1.8.0.tgz PackageFileSize: 3.596 MiB