############################################################################## ############################################################################## ### ### Running command: ### ### /home/biocbuild/bbs-3.19-bioc/R/bin/R CMD check --install=check:RCSL.install-out.txt --library=/home/biocbuild/bbs-3.19-bioc/R/site-library --timings RCSL_1.12.0.tar.gz ### ############################################################################## ############################################################################## * using log directory ‘/home/biocbuild/bbs-3.19-bioc/meat/RCSL.Rcheck’ * using R version 4.4.1 (2024-06-14) * using platform: x86_64-pc-linux-gnu * R was compiled by gcc (Ubuntu 11.4.0-1ubuntu1~22.04) 11.4.0 GNU Fortran (Ubuntu 11.4.0-1ubuntu1~22.04) 11.4.0 * running under: Ubuntu 22.04.5 LTS * using session charset: UTF-8 * checking for file ‘RCSL/DESCRIPTION’ ... OK * checking extension type ... Package * this is package ‘RCSL’ version ‘1.12.0’ * package encoding: UTF-8 * checking package namespace information ... OK * checking package dependencies ... OK * checking if this is a source package ... OK * checking if there is a namespace ... OK * checking for hidden files and directories ... OK * checking for portable file names ... OK * checking for sufficient/correct file permissions ... OK * checking whether package ‘RCSL’ can be installed ... OK * checking installed package size ... OK * checking package directory ... OK * checking ‘build’ directory ... OK * checking DESCRIPTION meta-information ... OK * checking top-level files ... OK * checking for left-over files ... OK * checking index information ... OK * checking package subdirectories ... OK * checking code files for non-ASCII characters ... OK * checking R files for syntax errors ... OK * checking whether the package can be loaded ... OK * checking whether the package can be loaded with stated dependencies ... OK * checking whether the package can be unloaded cleanly ... OK * checking whether the namespace can be loaded with stated dependencies ... OK * checking whether the namespace can be unloaded cleanly ... OK * checking loading without being on the library search path ... OK * checking dependencies in R code ... NOTE Namespaces in Imports field not imported from: ‘MatrixGenerics’ ‘Rcpp’ ‘SingleCellExperiment’ All declared Imports should be used. * checking S3 generic/method consistency ... OK * checking replacement functions ... OK * checking foreign function calls ... OK * checking R code for possible problems ... NOTE PlotMST: no visible binding for global variable ‘X1’ PlotMST: no visible binding for global variable ‘X2’ PlotMST: no visible binding for global variable ‘label’ PlotMST: no visible binding for global variable ‘from.x’ PlotMST: no visible binding for global variable ‘to.x’ PlotMST: no visible binding for global variable ‘from.y’ PlotMST: no visible binding for global variable ‘to.y’ PlotMST: no visible binding for global variable ‘V1’ PlotMST: no visible binding for global variable ‘V2’ PlotPseudoTime: no visible binding for global variable ‘x’ PlotPseudoTime: no visible binding for global variable ‘y’ PlotPseudoTime: no visible binding for global variable ‘Timepoint’ PlotTrajectory: no visible binding for global variable ‘X1’ PlotTrajectory: no visible binding for global variable ‘X2’ PlotTrajectory: no visible binding for global variable ‘label’ PlotTrajectory: no visible binding for global variable ‘x’ PlotTrajectory: no visible binding for global variable ‘y’ Undefined global functions or variables: Timepoint V1 V2 X1 X2 from.x from.y label to.x to.y x y * checking Rd files ... NOTE checkRd: (-1) BDSM.Rd:6: Lost braces; missing escapes or markup? 6 | min_{B>=0, B*1=1, F'*F=I} ||B - A||_1 + r*||B||^2 + 2*lambda*trace(F'*L*F)} | ^ checkRd: (-1) BDSM.Rd:22: Lost braces; missing escapes or markup? 22 | min_{B>=0, B*1=1, F'*F=I} ||B - A||_1 + r*||B||^2 + 2*lambda*trace(F'*L*F) | ^ * checking Rd metadata ... OK * checking Rd cross-references ... OK * checking for missing documentation entries ... OK * checking for code/documentation mismatches ... OK * checking Rd \usage sections ... OK * checking Rd contents ... OK * checking for unstated dependencies in examples ... OK * checking contents of ‘data’ directory ... OK * checking data for non-ASCII characters ... OK * checking LazyData ... OK * checking data for ASCII and uncompressed saves ... OK * checking files in ‘vignettes’ ... OK * checking examples ... OK Examples with CPU (user + system) or elapsed time > 5s user system elapsed PlotMST 35.402 0.164 35.566 BDSM 35.177 0.267 35.445 TrajectoryAnalysis 34.785 0.072 34.856 PlotTrajectory 34.357 0.080 34.437 EstClusters 33.758 0.164 33.922 PlotPseudoTime 33.378 0.112 33.490 NeigRepresent 33.298 0.140 33.437 getLineage 33.327 0.055 33.384 GenesFilter 32.319 0.800 33.119 SimS 32.321 0.160 32.481 RCSL 8.402 0.712 9.113 * checking for unstated dependencies in vignettes ... OK * checking package vignettes ... OK * checking re-building of vignette outputs ... OK * checking PDF version of manual ... OK * DONE Status: 3 NOTEs See ‘/home/biocbuild/bbs-3.19-bioc/meat/RCSL.Rcheck/00check.log’ for details.