Package: RCSL Version: 1.12.0 Command: /Library/Frameworks/R.framework/Resources/bin/R CMD check --install=check:RCSL.install-out.txt --library=/Library/Frameworks/R.framework/Resources/library --no-vignettes --timings RCSL_1.12.0.tar.gz StartedAt: 2024-10-17 11:33:27 -0400 (Thu, 17 Oct 2024) EndedAt: 2024-10-17 12:01:15 -0400 (Thu, 17 Oct 2024) EllapsedTime: 1668.2 seconds RetCode: 0 Status: OK CheckDir: RCSL.Rcheck Warnings: 0