Package: RCSL Version: 1.12.0 Command: rm -rf RCSL.buildbin-libdir && mkdir RCSL.buildbin-libdir && /Users/biocbuild/BBS/utils/build-universal.sh RCSL_1.12.0.tar.gz /Library/Frameworks/R.framework/Resources/bin/R RCSL.buildbin-libdir StartedAt: 2024-10-17 16:56:39 -0400 (Thu, 17 Oct 2024) EndedAt: 2024-10-17 16:57:00 -0400 (Thu, 17 Oct 2024) EllapsedTime: 20.8 seconds RetCode: 0 Status: OK PackageFile: RCSL_1.12.0.tgz PackageFileSize: 3.085 MiB