Package: RCSL Version: 1.12.0 Command: /Library/Frameworks/R.framework/Resources/bin/R CMD build --keep-empty-dirs --no-resave-data RCSL StartedAt: 2024-06-09 17:51:42 -0400 (Sun, 09 Jun 2024) EndedAt: 2024-06-09 17:52:17 -0400 (Sun, 09 Jun 2024) EllapsedTime: 35.0 seconds RetCode: 0 Status: OK PackageFile: RCSL_1.12.0.tar.gz PackageFileSize: 1.974 MiB