Package: RCSL Version: 1.12.0 Command: /home/biocbuild/R/R-beta-2024-04-15_r86425/bin/R CMD check --install=check:RCSL.install-out.txt --library=/home/biocbuild/R/R-beta-2024-04-15_r86425/site-library --no-vignettes --timings RCSL_1.12.0.tar.gz StartedAt: 2024-05-09 11:00:40 -0000 (Thu, 09 May 2024) EndedAt: 2024-05-09 11:13:04 -0000 (Thu, 09 May 2024) EllapsedTime: 744.5 seconds RetCode: 0 Status: OK CheckDir: RCSL.Rcheck Warnings: 0