Package: RCSL Version: 1.12.0 Command: /Library/Frameworks/R.framework/Resources/bin/R CMD check --install=check:RCSL.install-out.txt --library=/Library/Frameworks/R.framework/Resources/library --no-vignettes --timings RCSL_1.12.0.tar.gz StartedAt: 2024-10-18 08:51:41 -0400 (Fri, 18 Oct 2024) EndedAt: 2024-10-18 08:59:54 -0400 (Fri, 18 Oct 2024) EllapsedTime: 493.0 seconds RetCode: 0 Status: OK CheckDir: RCSL.Rcheck Warnings: 0