Package: RCSL Version: 1.12.0 Command: /Library/Frameworks/R.framework/Resources/bin/R CMD build --keep-empty-dirs --no-resave-data RCSL StartedAt: 2024-10-17 07:17:41 -0400 (Thu, 17 Oct 2024) EndedAt: 2024-10-17 07:18:22 -0400 (Thu, 17 Oct 2024) EllapsedTime: 41.1 seconds RetCode: 0 Status: OK PackageFile: RCSL_1.12.0.tar.gz PackageFileSize: 1.976 MiB