Package: RCSL Version: 1.12.0 Command: rm -rf RCSL.buildbin-libdir && mkdir RCSL.buildbin-libdir && /Users/biocbuild/BBS/utils/build-universal.sh RCSL_1.12.0.tar.gz /Library/Frameworks/R.framework/Resources/bin/R RCSL.buildbin-libdir StartedAt: 2024-10-18 20:10:47 -0400 (Fri, 18 Oct 2024) EndedAt: 2024-10-18 20:11:02 -0400 (Fri, 18 Oct 2024) EllapsedTime: 14.6 seconds RetCode: 0 Status: OK PackageFile: RCSL_1.12.0.tgz PackageFileSize: 3.074 MiB