Package: RCM Version: 1.20.0 Command: rm -rf RCM.buildbin-libdir && mkdir RCM.buildbin-libdir && F:\biocbuild\bbs-3.19-bioc\R\bin\R.exe CMD INSTALL --build --library=RCM.buildbin-libdir RCM_1.20.0.tar.gz StartedAt: 2024-06-27 08:45:08 -0400 (Thu, 27 Jun 2024) EndedAt: 2024-06-27 08:45:48 -0400 (Thu, 27 Jun 2024) EllapsedTime: 40.6 seconds RetCode: 0 Status: OK PackageFile: RCM_1.20.0.zip PackageFileSize: 3.398 MiB