Package: RCM Version: 1.20.0 Command: /home/biocbuild/bbs-3.19-bioc/R/bin/R CMD check --install=check:RCM.install-out.txt --library=/home/biocbuild/bbs-3.19-bioc/R/site-library --timings RCM_1.20.0.tar.gz StartedAt: 2024-10-17 04:10:43 -0400 (Thu, 17 Oct 2024) EndedAt: 2024-10-17 04:15:09 -0400 (Thu, 17 Oct 2024) EllapsedTime: 265.8 seconds RetCode: 0 Status: OK CheckDir: RCM.Rcheck Warnings: 0