Package: RCM Version: 1.20.0 Command: /Library/Frameworks/R.framework/Resources/bin/R CMD build --keep-empty-dirs --no-resave-data RCM StartedAt: 2024-10-16 22:26:11 -0400 (Wed, 16 Oct 2024) EndedAt: 2024-10-16 22:28:27 -0400 (Wed, 16 Oct 2024) EllapsedTime: 136.2 seconds RetCode: 0 Status: OK PackageFile: RCM_1.20.0.tar.gz PackageFileSize: 4.819 MiB