Package: RCASPAR Version: 1.50.0 Command: F:\biocbuild\bbs-3.19-bioc\R\bin\R.exe CMD INSTALL RCASPAR StartedAt: 2024-06-26 15:43:34 -0400 (Wed, 26 Jun 2024) EndedAt: 2024-06-26 15:43:58 -0400 (Wed, 26 Jun 2024) EllapsedTime: 23.7 seconds RetCode: 0 Status: OK