Package: RCASPAR Version: 1.50.0 Command: chmod a+r RCASPAR -R && F:\biocbuild\bbs-3.19-bioc\R\bin\R.exe CMD build --keep-empty-dirs --no-resave-data RCASPAR StartedAt: 2024-06-26 21:17:09 -0400 (Wed, 26 Jun 2024) EndedAt: 2024-06-26 21:17:21 -0400 (Wed, 26 Jun 2024) EllapsedTime: 12.2 seconds RetCode: 0 Status: OK PackageFile: RCASPAR_1.50.0.tar.gz PackageFileSize: 205.8 KiB