Package: RCASPAR Version: 1.50.0 Command: rm -rf RCASPAR.buildbin-libdir && mkdir RCASPAR.buildbin-libdir && /Users/biocbuild/BBS/utils/build-universal.sh RCASPAR_1.50.0.tar.gz /Library/Frameworks/R.framework/Resources/bin/R RCASPAR.buildbin-libdir StartedAt: 2024-10-17 16:56:30 -0400 (Thu, 17 Oct 2024) EndedAt: 2024-10-17 16:56:38 -0400 (Thu, 17 Oct 2024) EllapsedTime: 7.6 seconds RetCode: 0 Status: OK PackageFile: RCASPAR_1.50.0.tgz PackageFileSize: 373.6 KiB