Package: RCASPAR Version: 1.50.0 Command: /Library/Frameworks/R.framework/Resources/bin/R CMD build --keep-empty-dirs --no-resave-data RCASPAR StartedAt: 2024-06-09 17:51:28 -0400 (Sun, 09 Jun 2024) EndedAt: 2024-06-09 17:51:38 -0400 (Sun, 09 Jun 2024) EllapsedTime: 10.1 seconds RetCode: 0 Status: OK PackageFile: RCASPAR_1.50.0.tar.gz PackageFileSize: 304.9 KiB