Package: RCASPAR Version: 1.50.0 Command: rm -rf RCASPAR.buildbin-libdir && mkdir RCASPAR.buildbin-libdir && /Users/biocbuild/BBS/utils/build-universal.sh RCASPAR_1.50.0.tar.gz /Library/Frameworks/R.framework/Resources/bin/R RCASPAR.buildbin-libdir StartedAt: 2024-06-10 00:34:22 -0400 (Mon, 10 Jun 2024) EndedAt: 2024-06-10 00:34:28 -0400 (Mon, 10 Jun 2024) EllapsedTime: 5.6 seconds RetCode: 0 Status: OK PackageFile: RCASPAR_1.50.0.tgz PackageFileSize: 372.9 KiB