Package: RCASPAR Version: 1.50.0 Command: /Library/Frameworks/R.framework/Resources/bin/R CMD build --keep-empty-dirs --no-resave-data RCASPAR StartedAt: 2024-06-10 03:10:28 -0400 (Mon, 10 Jun 2024) EndedAt: 2024-06-10 03:10:45 -0400 (Mon, 10 Jun 2024) EllapsedTime: 17.5 seconds RetCode: 0 Status: OK PackageFile: RCASPAR_1.50.0.tar.gz PackageFileSize: 304.8 KiB